BEGIN:VCALENDAR
VERSION:2.0
PRODID:https://www.kufer.de/kuferweb / DE
METHOD:PUBLISH
CALSCALE:GREGORIAN
X-WR-TIMEZONE:Europe/Berlin
BEGIN:VTIMEZONE
TZID:Europe/Berlin
X-LIC-LOCATION:Europe/Berlin
BEGIN:DAYLIGHT
TZOFFSETFROM:+0100
TZOFFSETTO:+0200
TZNAME:CEST
DTSTART:19700329T020000
RRULE:FREQ=YEARLY;INTERVAL=1;BYDAY=-1SU;BYMONTH=3
END:DAYLIGHT
BEGIN:STANDARD
TZOFFSETFROM:+0200
TZOFFSETTO:+0100
TZNAME:CET
DTSTART:19701025T030000
RRULE:FREQ=YEARLY;INTERVAL=1;BYDAY=-1SU;BYMONTH=10
END:STANDARD
END:VTIMEZONE
BEGIN:VEVENT
DTSTAMP:20260421T131840
DTSTART;TZID=Europe/Berlin:20260421T110000
DTEND;TZID=Europe/Berlin:20260421T123000
UID:BU21001-20260421T110000@FBSGIESSEN
SUMMARY:Kleine Leute in Bewegung (BU21001) 
LOCATION:Gymnastikraum, Wingert 18, 35369 Gießen
END:VEVENT
BEGIN:VEVENT
DTSTAMP:20260421T131840
DTSTART;TZID=Europe/Berlin:20260428T110000
DTEND;TZID=Europe/Berlin:20260428T123000
UID:BU21001-20260428T110000@FBSGIESSEN
SUMMARY:Kleine Leute in Bewegung (BU21001) 
LOCATION:Gymnastikraum, Wingert 18, 35369 Gießen
END:VEVENT
BEGIN:VEVENT
DTSTAMP:20260421T131840
DTSTART;TZID=Europe/Berlin:20260505T110000
DTEND;TZID=Europe/Berlin:20260505T123000
UID:BU21001-20260505T110000@FBSGIESSEN
SUMMARY:Kleine Leute in Bewegung (BU21001) 
LOCATION:Gymnastikraum, Wingert 18, 35369 Gießen
END:VEVENT
BEGIN:VEVENT
DTSTAMP:20260421T131840
DTSTART;TZID=Europe/Berlin:20260512T110000
DTEND;TZID=Europe/Berlin:20260512T123000
UID:BU21001-20260512T110000@FBSGIESSEN
SUMMARY:Kleine Leute in Bewegung (BU21001) 
LOCATION:Gymnastikraum, Wingert 18, 35369 Gießen
END:VEVENT
BEGIN:VEVENT
DTSTAMP:20260421T131840
DTSTART;TZID=Europe/Berlin:20260519T110000
DTEND;TZID=Europe/Berlin:20260519T123000
UID:BU21001-20260519T110000@FBSGIESSEN
SUMMARY:Kleine Leute in Bewegung (BU21001) 
LOCATION:Gymnastikraum, Wingert 18, 35369 Gießen
END:VEVENT
BEGIN:VEVENT
DTSTAMP:20260421T131840
DTSTART;TZID=Europe/Berlin:20260526T110000
DTEND;TZID=Europe/Berlin:20260526T123000
UID:BU21001-20260526T110000@FBSGIESSEN
SUMMARY:Kleine Leute in Bewegung (BU21001) 
LOCATION:Gymnastikraum, Wingert 18, 35369 Gießen
END:VEVENT
BEGIN:VEVENT
DTSTAMP:20260421T131840
DTSTART;TZID=Europe/Berlin:20260602T110000
DTEND;TZID=Europe/Berlin:20260602T123000
UID:BU21001-20260602T110000@FBSGIESSEN
SUMMARY:Kleine Leute in Bewegung (BU21001) 
LOCATION:Gymnastikraum, Wingert 18, 35369 Gießen
END:VEVENT
BEGIN:VEVENT
DTSTAMP:20260421T131840
DTSTART;TZID=Europe/Berlin:20260609T110000
DTEND;TZID=Europe/Berlin:20260609T123000
UID:BU21001-20260609T110000@FBSGIESSEN
SUMMARY:Kleine Leute in Bewegung (BU21001) 
LOCATION:Gymnastikraum, Wingert 18, 35369 Gießen
END:VEVENT
BEGIN:VEVENT
DTSTAMP:20260421T131840
DTSTART;TZID=Europe/Berlin:20260616T110000
DTEND;TZID=Europe/Berlin:20260616T123000
UID:BU21001-20260616T110000@FBSGIESSEN
SUMMARY:Kleine Leute in Bewegung (BU21001) 
LOCATION:Gymnastikraum, Wingert 18, 35369 Gießen
END:VEVENT
BEGIN:VEVENT
DTSTAMP:20260421T131840
DTSTART;TZID=Europe/Berlin:20260623T110000
DTEND;TZID=Europe/Berlin:20260623T123000
UID:BU21001-20260623T110000@FBSGIESSEN
SUMMARY:Kleine Leute in Bewegung (BU21001) 
LOCATION:Gymnastikraum, Wingert 18, 35369 Gießen
END:VEVENT
END:VCALENDAR